BEGIN:VCALENDAR
VERSION:2.0
PRODID:-//New River Conservancy - ECPv6.15.20//NONSGML v1.0//EN
CALSCALE:GREGORIAN
METHOD:PUBLISH
X-ORIGINAL-URL:https://newriverconservancy.org
X-WR-CALDESC:Events for New River Conservancy
REFRESH-INTERVAL;VALUE=DURATION:PT1H
X-Robots-Tag:noindex
X-PUBLISHED-TTL:PT1H
BEGIN:VTIMEZONE
TZID:America/New_York
BEGIN:DAYLIGHT
TZOFFSETFROM:-0500
TZOFFSETTO:-0400
TZNAME:EDT
DTSTART:20240310T070000
END:DAYLIGHT
BEGIN:STANDARD
TZOFFSETFROM:-0400
TZOFFSETTO:-0500
TZNAME:EST
DTSTART:20241103T060000
END:STANDARD
BEGIN:DAYLIGHT
TZOFFSETFROM:-0500
TZOFFSETTO:-0400
TZNAME:EDT
DTSTART:20250309T070000
END:DAYLIGHT
BEGIN:STANDARD
TZOFFSETFROM:-0400
TZOFFSETTO:-0500
TZNAME:EST
DTSTART:20251102T060000
END:STANDARD
BEGIN:DAYLIGHT
TZOFFSETFROM:-0500
TZOFFSETTO:-0400
TZNAME:EDT
DTSTART:20260308T070000
END:DAYLIGHT
BEGIN:STANDARD
TZOFFSETFROM:-0400
TZOFFSETTO:-0500
TZNAME:EST
DTSTART:20261101T060000
END:STANDARD
END:VTIMEZONE
BEGIN:VEVENT
DTSTART;TZID=America/New_York:20250719T090000
DTEND;TZID=America/New_York:20250719T170000
DTSTAMP:20260425T090035
CREATED:20250627T163923Z
LAST-MODIFIED:20250627T163923Z
UID:2238-1752915600-1752944400@newriverconservancy.org
SUMMARY:New River Clean Up - Cedar Branch to Indian Creek\, WV
DESCRIPTION:This cleanup is in conjunction with West Virginia Rivers Coalition and the Parks Project to cover the stretch from Cedar Branch to Indian Creek on the New River above Bluestone Lake. \n. \nThis is a ‘bring your own craft’ event or claim a spot in one of the inflatable kayaks(ducky) that we have access to. \n. \nLunch and all cleanup supplies will be provided. \n. \nApparel raffle afterwards! Meeting time and place will be shared once your register. \n. \nREGISTER HERE: https://docs.google.com/forms/d/e/1FAIpQLSf1P3xnIlHR5Y_fizRbb8Dmt9hFsvUagYQVrunQ5cmz0_3g_g/viewform
URL:https://newriverconservancy.org/event/new-river-clean-up-cedar-branch-to-indian-creek-wv/
CATEGORIES:West Virginia
ATTACH;FMTTYPE=image/jpeg:https://newriverconservancy.org/wp-content/uploads/2025/06/Screenshot-2025-06-27-123846.jpg
END:VEVENT
END:VCALENDAR