BEGIN:VCALENDAR
VERSION:2.0
PRODID:-//New River Conservancy - ECPv6.15.20//NONSGML v1.0//EN
CALSCALE:GREGORIAN
METHOD:PUBLISH
X-WR-CALNAME:New River Conservancy
X-ORIGINAL-URL:https://newriverconservancy.org
X-WR-CALDESC:Events for New River Conservancy
REFRESH-INTERVAL;VALUE=DURATION:PT1H
X-Robots-Tag:noindex
X-PUBLISHED-TTL:PT1H
BEGIN:VTIMEZONE
TZID:America/New_York
BEGIN:DAYLIGHT
TZOFFSETFROM:-0500
TZOFFSETTO:-0400
TZNAME:EDT
DTSTART:20250309T070000
END:DAYLIGHT
BEGIN:STANDARD
TZOFFSETFROM:-0400
TZOFFSETTO:-0500
TZNAME:EST
DTSTART:20251102T060000
END:STANDARD
BEGIN:DAYLIGHT
TZOFFSETFROM:-0500
TZOFFSETTO:-0400
TZNAME:EDT
DTSTART:20260308T070000
END:DAYLIGHT
BEGIN:STANDARD
TZOFFSETFROM:-0400
TZOFFSETTO:-0500
TZNAME:EST
DTSTART:20261101T060000
END:STANDARD
BEGIN:DAYLIGHT
TZOFFSETFROM:-0500
TZOFFSETTO:-0400
TZNAME:EDT
DTSTART:20270314T070000
END:DAYLIGHT
BEGIN:STANDARD
TZOFFSETFROM:-0400
TZOFFSETTO:-0500
TZNAME:EST
DTSTART:20271107T060000
END:STANDARD
END:VTIMEZONE
BEGIN:VEVENT
DTSTART;TZID=America/New_York:20260307T100000
DTEND;TZID=America/New_York:20260307T150000
DTSTAMP:20260419T094157
CREATED:20251202T220221Z
LAST-MODIFIED:20251216T221246Z
UID:2629-1772877600-1772895600@newriverconservancy.org
SUMMARY:Live Stake Planting at Wagoner
DESCRIPTION:Join us for New River Conservancy’s Live Stake Planting Day at Wagoner Access\, New River State Park on Saturday\, March 7\, 2026! \n\n📍 Meeting Location: New River State Park at Wagoner Access (1477 Wagoner Access Rd. Jefferson\, NC 28640\, 36.416028541657944\, -81.3870495608459).\n🕙 Time: 10:00 a.m.\n\nThis volunteer event\, co-sponsored by the New River Conservancy\, the NC Wildlife Federation’s High Country Wild Chapter\, New River State Park\, and Keep Ashe Beautiful\, will focus on planting live stakes and potted trees along the tributaries at Wagoner Access. Our goal is to reduce erosion and create better habitat for local wildlife.\n\n\n👉 What to Bring: \n\nWear clothes you don’t mind getting dirty\nRubber boots or sturdy shoes (waders recommended)\nWork gloves and garden shears\, if available\nWater and snacks\n\n\n\nA few days before the event\, Joe Johnson with New River Conservancy will reach out with additional details. \nREGISTER HERE \n\n📧 Questions? Contact Joe at joe@newriverconservancy.org\n\n\nGet ready to dig in\, have fun\, and make a difference for the waters\, woodlands and wildlife of the New River. We look forward to seeing you there!
URL:https://newriverconservancy.org/event/live-stake-planting-at-wagoner/
LOCATION:1477 Wagoner Access\, 1477 Wagoner Access Rd\, Jefferson\, NC\, 28640\, United States
CATEGORIES:North Carolina
ATTACH;FMTTYPE=image/jpeg:https://newriverconservancy.org/wp-content/uploads/2025/12/livestake-e1764713705499.jpg
END:VEVENT
BEGIN:VEVENT
DTSTART;TZID=America/New_York:20260311T110000
DTEND;TZID=America/New_York:20260311T130000
DTSTAMP:20260419T094157
CREATED:20251209T153010Z
LAST-MODIFIED:20260202T192759Z
UID:2647-1773226800-1773234000@newriverconservancy.org
SUMMARY:Watauga Live Stake Giveaway
DESCRIPTION:We’re giving away live stakes! \nLive stakes are cuttings from dormant trees that can grow into new plants along river or stream banks for riparian buffer restoration! In the winter\, trees go into dormancy\, a natural process where they conserve energy to survive the cold. This is the perfect time for planting live stakes\, as the cuttings can focus on growing strong roots before the spring season arrives. \nThe live staking season typically runs from November to March\, where you can plant hardy hardwood stakes that will establish their roots first. These roots stay steady\, quietly working underground\, and when spring arrives\, the stakes burst into life\, growing their branches and leaves. \nWe will be offering bundles of 50 stakes with varieties ranging from Silky Dogwood\, Silky Willow\, Ninebark\, and Elderberry. Instructions on planting will be provided. \nLive stakes and educational packets are free\, but to ensure we have enough live stakes sign up is required. \n\nThese live stake giveaways are a partnership between New River Conservancy\, Blue Ridge Resource Conservation & Development\,  North Carolina Wildlife Federation (High Country Wild Chapter) and National Wildlife Federation’s Trees for Wildlife Program\, with support from local Soil and Water Conservation District and Cooperative Extension offices. \n\nREGISTER HERE BY FEBRUARY 25
URL:https://newriverconservancy.org/event/watauga-live-stake-giveaway/
LOCATION:Watauga County Soil & Water Conservation District\, 971 West King Street\, Boone\, NC\, United States
CATEGORIES:North Carolina
ATTACH;FMTTYPE=image/jpeg:https://newriverconservancy.org/wp-content/uploads/2025/12/livestake-e1764713705499.jpg
END:VEVENT
BEGIN:VEVENT
DTSTART;TZID=America/New_York:20260313T110000
DTEND;TZID=America/New_York:20260313T130000
DTSTAMP:20260419T094157
CREATED:20251209T153651Z
LAST-MODIFIED:20260202T192704Z
UID:2650-1773399600-1773406800@newriverconservancy.org
SUMMARY:Ashe County Live Stake Giveaway
DESCRIPTION:We’re giving away live stakes! \nLive stakes are cuttings from dormant trees that can grow into new plants along river or stream banks for riparian buffer restoration! In the winter\, trees go into dormancy\, a natural process where they conserve energy to survive the cold. This is the perfect time for planting live stakes\, as the cuttings can focus on growing strong roots before the spring season arrives. \nThe live staking season typically runs from November to March\, where you can plant hardy hardwood stakes that will establish their roots first. These roots stay steady\, quietly working underground\, and when spring arrives\, the stakes burst into life\, growing their branches and leaves. \nWe will be offering bundles of 50 stakes with varieties ranging from Silky Dogwood\, Silky Willow\, Ninebark\, and Elderberry. Instructions on planting will be provided. \nLive stakes and educational packets are free\, but to ensure we have enough live stakes sign up is required. \n\nThese live stake giveaways are a partnership between New River Conservancy\, Blue Ridge Resource Conservation & Development\, Keep Ashe Beautiful\, Trout Unlimited\, North Carolina Wildlife Federation (High Country Wild Chapter) and National Wildlife Federation’s Trees for Wildlife Program\, with support from local New River Soil and Water Conservation office. \n\nREGISTER HERE BY FEBRUARY 25
URL:https://newriverconservancy.org/event/ashe-county-live-stake-giveaway/
LOCATION:Ashe County Soil & Water Conservation District\, 134 Government Circle\, Jefferson\, NC\, United States
CATEGORIES:North Carolina
ATTACH;FMTTYPE=image/jpeg:https://newriverconservancy.org/wp-content/uploads/2025/12/livestake-e1764713705499.jpg
END:VEVENT
BEGIN:VEVENT
DTSTART;TZID=America/New_York:20260319T110000
DTEND;TZID=America/New_York:20260319T130000
DTSTAMP:20260419T094157
CREATED:20251209T154159Z
LAST-MODIFIED:20260202T192856Z
UID:2652-1773918000-1773925200@newriverconservancy.org
SUMMARY:Wilkes County Live Stake Giveaway
DESCRIPTION:We’re giving away live stakes! \nLive stakes are cuttings from dormant trees that can grow into new plants along river or stream banks for riparian buffer restoration! In the winter\, trees go into dormancy\, a natural process where they conserve energy to survive the cold. This is the perfect time for planting live stakes\, as the cuttings can focus on growing strong roots before the spring season arrives. \nThe live staking season typically runs from November to March\, where you can plant hardy hardwood stakes that will establish their roots first. These roots stay steady\, quietly working underground\, and when spring arrives\, the stakes burst into life\, growing their branches and leaves. \nWe will be offering bundles of 50 stakes with varieties ranging from Silky Dogwood\, Silky Willow\, Ninebark\, and Elderberry. Instructions on planting will be provided. \nLive stakes and educational packets are free\, but to ensure we have enough live stakes sign up is required. \n\nThese live stake giveaways are a partnership between New River Conservancy\, Blue Ridge Resource Conservation & Development\,  North Carolina Wildlife Federation (High Country Wild Chapter) and National Wildlife Federation’s Trees for Wildlife Program\, with support from local Soil and Water Conservation District and Cooperative Extension offices. \n  \n\nREGISTER HERE BY MARCH 5
URL:https://newriverconservancy.org/event/wilkes-county-live-stake-giveaway/
LOCATION:Wilkes County Soil & Water Conservation District\, 416 Executive Drive\, Wilkesboro\, NC\, United States
CATEGORIES:North Carolina
ATTACH;FMTTYPE=image/jpeg:https://newriverconservancy.org/wp-content/uploads/2025/12/livestake-e1764713705499.jpg
END:VEVENT
BEGIN:VEVENT
DTSTART;TZID=America/New_York:20260320T100000
DTEND;TZID=America/New_York:20260322T170000
DTSTAMP:20260419T094157
CREATED:20260218T175153Z
LAST-MODIFIED:20260218T175153Z
UID:2861-1774000800-1774198800@newriverconservancy.org
SUMMARY:The Big Plant - Radford
DESCRIPTION:Plant big at the Big Plant – Radford!\n.\nEach year\, in the New River Valley\, volunteers help to plant thousands of native trees that will provide shade\, habitat\, and food to benefit the land\, wildlife\, and people for generations to come.\n.\nWhere: Bisset Park\, Radford\, VAWhen: Friday\, Saturday\, and Sunday\, March 20th\, 21st\, and 22ndWho: All ages and abilities welcome! Whether a forester or first-time tree planter\, we welcome you!\n.\nTools will be provided to all volunteers. Bring your own weather-appropriate gear\, water\, snacks\, and closed-toe footwear.\n.\nSign Up Here\n.\nThe Big Plant Radford is made possible by a partnership of many local organizations and groups including New River Conservancy\, Ecological Restoration Collaborative\, Nursery Natives\, City of Radford\, and Radford Parks and Recreation
URL:https://newriverconservancy.org/event/the-big-plant-radford/
LOCATION:Bissett Park\, Radford\, VA\, United States
CATEGORIES:Virginia
ATTACH;FMTTYPE=image/jpeg:https://newriverconservancy.org/wp-content/uploads/2026/02/Radford-of-The-Big-Plant-e1771437101163.jpg
END:VEVENT
BEGIN:VEVENT
DTSTART;TZID=America/New_York:20260320T110000
DTEND;TZID=America/New_York:20260320T130000
DTSTAMP:20260419T094157
CREATED:20251209T154506Z
LAST-MODIFIED:20260202T192952Z
UID:2655-1774004400-1774011600@newriverconservancy.org
SUMMARY:Alleghany Live Stake Giveaway
DESCRIPTION:We’re giving away live stakes! \nLive stakes are cuttings from dormant trees that can grow into new plants along river or stream banks for riparian buffer restoration! In the winter\, trees go into dormancy\, a natural process where they conserve energy to survive the cold. This is the perfect time for planting live stakes\, as the cuttings can focus on growing strong roots before the spring season arrives. \nThe live staking season typically runs from November to March\, where you can plant hardy hardwood stakes that will establish their roots first. These roots stay steady\, quietly working underground\, and when spring arrives\, the stakes burst into life\, growing their branches and leaves. \nWe will be offering bundles of 50 stakes with varieties ranging from Silky Dogwood\, Silky Willow\, Ninebark\, and Elderberry. Instructions on planting will be provided. \nLive stakes and educational packets are free\, but to ensure we have enough live stakes sign up is required. \n\nThese live stake giveaways are a partnership between New River Conservancy\, Blue Ridge Resource Conservation & Development\,  North Carolina Wildlife Federation (High Country Wild Chapter) and National Wildlife Federation’s Trees for Wildlife Program\, with support from local Soil and Water Conservation District and Cooperative Extension offices. \n  \n\nREGISTER HERE BY MARCH 6
URL:https://newriverconservancy.org/event/alleghany-live-stake-giveaway/
LOCATION:Crouse Park\, 60 Cherry Street\, Sparta\, NC\, United States
CATEGORIES:North Carolina
ATTACH;FMTTYPE=image/jpeg:https://newriverconservancy.org/wp-content/uploads/2025/12/livestake-e1764713705499.jpg
END:VEVENT
BEGIN:VEVENT
DTSTART;TZID=America/New_York:20260321T100000
DTEND;TZID=America/New_York:20260321T140000
DTSTAMP:20260419T094157
CREATED:20260128T193845Z
LAST-MODIFIED:20260128T194932Z
UID:2755-1774087200-1774101600@newriverconservancy.org
SUMMARY:Clean Up: Pine Run to New River Corn Maze
DESCRIPTION:Please register for our New River Clean Up from Pine Run Bridge to the New River Corn Maze on Saturday March 21\, 2026 \n \nPlease meet at 1802 Pine Run Road\, Boone\, NC at 10:00 AM to set shuttle\n \n\n\nSpring into the New and join our clean stream team to help clean North America’s Oldest River.\n\nThe New River Conservancy will supply all tools and equipment for this clean up with additional support from our partners; NC State Parks\, Keep Ashe Beautiful\, NC Wildlife Federation’s High Country Wild Chapter and NC Works.\n\nDress to get dirty and bring plenty of water as well as a light lunch.\n\nPlease bring your own set of waders if you have them and wear layers with warm head gear.\n\n\n\nREGISTER HERE\n\n\n\nUpon completion of this registration you will be contacted by New River Conservancy Clean Up Coordinator Will Sowards with further information.\n\nQuestions? Please contact\nWill@newriverconservancy.org
URL:https://newriverconservancy.org/event/clean-up-pine-river-to-new-river-corn-maze/
LOCATION:1802 Pine Run Road\, 1802 Pine Run Road\, Boone\, NC\, United States
CATEGORIES:North Carolina
ATTACH;FMTTYPE=image/jpeg:https://newriverconservancy.org/wp-content/uploads/2026/01/20251219_123830-scaled-e1769629763582.jpg
END:VEVENT
BEGIN:VEVENT
DTSTART;TZID=America/New_York:20260328T090000
DTEND;TZID=America/New_York:20260329T170000
DTSTAMP:20260419T094157
CREATED:20260218T174218Z
LAST-MODIFIED:20260218T174340Z
UID:2856-1774688400-1774803600@newriverconservancy.org
SUMMARY:The Big Plant - Blacksburg
DESCRIPTION:Plant Big in Blacksburg!\n\nEach year\, in the New River Valley\, volunteers help to plant thousands of native trees that will provide shade\, habitat\, and food to benefit the land\, wildlife\, and people for generations to come.\n\nWhere: Blacksburg\, VAWhen: Saturday and Sunday\, March 28th and 29th; shifts from 9am to 12pm\, 1 am to 4pmWho: All ages and abilities welcome! Whether a forester or first-time tree planter\, we welcome you!\nWe also need field leaders to supervise tree planters and quality control check so we can have happy\, healthy trees!\nTools will be provided to all volunteers and field leaders. Bring your own weather-appropriate gear\, water\, snacks\, and closed-toe footwear.\n\nSign Up Here\n\nThe Big Plant is made possible by a number of partnering organizations and individuals including: Ecological Restoration Collaborative\, New River Conservancy\, Virginia Tech\, Environmental Coalition at VT\, Virginia Department of Forestry\, Virginia Department of Environmental Quality\, Virginia Department of Conservation and Recreation
URL:https://newriverconservancy.org/event/the-big-plant-blacksburg/
LOCATION:Blacksburg\, Blacksburg\, VA\, United States
CATEGORIES:Virginia
ATTACH;FMTTYPE=image/jpeg:https://newriverconservancy.org/wp-content/uploads/2026/02/Blacksburg-The-Big-Plant-e1771436508560.jpg
END:VEVENT
BEGIN:VEVENT
DTSTART;TZID=America/New_York:20260328T100000
DTEND;TZID=America/New_York:20260328T143000
DTSTAMP:20260419T094157
CREATED:20260128T194516Z
LAST-MODIFIED:20260128T194516Z
UID:2796-1774692000-1774708200@newriverconservancy.org
SUMMARY:Clean Up: New River Corn Maze to Milton Moretz
DESCRIPTION:Please register for our New River Clean Up from the New River Corn Maze to Milton Moretz on Saturday March 28\, 2026 \n \nPlease meet at 556 Laurel Gap Ridge\, Boone\, NC 28607 at 10:00 AM to set shuttle\n\n\n\nSpring into the New and join our clean stream team to help clean North America’s Oldest River.\n\nThe New River Conservancy will supply all tools and equipment for this clean up with additional support from our partners; NC State Parks\, Keep Ashe Beautiful\, NC Wildlife Federation’s High Country Wild Chapter and NC Works.\n\nDress to get dirty and bring plenty of water as well as a light lunch.\n\nPlease bring your own set of waders if you have them and wear layers with warm head gear.\n\n\nREGISTER HERE\n\n\nUpon completion of this registration you will be contacted by New River Conservancy Clean Up Coordinator Will Sowards with further information.\n\nQuestions? Please contact\nWill@newriverconservancy.org
URL:https://newriverconservancy.org/event/clean-up-new-river-corn-maze-to-milton-moretz/
LOCATION:556 Laurel Gap Ridge\, 556 Laurel Gap Ridge\, Boone\, NC\, United States
CATEGORIES:North Carolina
ATTACH;FMTTYPE=image/jpeg:https://newriverconservancy.org/wp-content/uploads/2026/01/Perfect-Wil-scaled-e1769629504768.jpg
END:VEVENT
END:VCALENDAR